BEGIN:VCALENDAR
VERSION:2.0
PRODID:-//Elements Bar - ECPv6.15.17.1//NONSGML v1.0//EN
CALSCALE:GREGORIAN
METHOD:PUBLISH
X-WR-CALNAME:Elements Bar
X-ORIGINAL-URL:https://elementsbar.co.uk
X-WR-CALDESC:Events for Elements Bar
REFRESH-INTERVAL;VALUE=DURATION:PT1H
X-Robots-Tag:noindex
X-PUBLISHED-TTL:PT1H
BEGIN:VTIMEZONE
TZID:UTC
BEGIN:STANDARD
TZOFFSETFROM:+0000
TZOFFSETTO:+0000
TZNAME:UTC
DTSTART:20230101T000000
END:STANDARD
END:VTIMEZONE
BEGIN:VEVENT
DTSTART;TZID=UTC:20240628T210000
DTEND;TZID=UTC:20240805T030000
DTSTAMP:20260420T064213
CREATED:20240423T121752Z
LAST-MODIFIED:20260312T170939Z
UID:3171-1719608400-1722826800@elementsbar.co.uk
SUMMARY:Every Last Friday of The Month
DESCRIPTION:February 2025 Events				\n				\n					\n		\n					\n		\n				\n						\n					\n			\n						\n				\n																														\n				\n					\n		\n				\n			\n						\n				\n																														\n				\n					\n		\n					\n		\n				\n						\n					\n			\n						\n				\n					Address:				\n				\n				\n				\n							\n			\n						\n		\n						\n				\n				\n				\n									207 Lee High Road Lewisham\, London SE13 5PQ United Kingdom
URL:https://elementsbar.co.uk/event/every-last-friday-of-the-month/
CATEGORIES:Event
ATTACH;FMTTYPE=image/jpeg:https://elementsbar.co.uk/wp-content/uploads/2024/04/EVERY-LAST-FRIDAY-OF-THE-MONTH.jpg
END:VEVENT
BEGIN:VEVENT
DTSTART;TZID=UTC:20240607T210000
DTEND;TZID=UTC:20240607T210000
DTSTAMP:20260420T064213
CREATED:20190729T114748Z
LAST-MODIFIED:20240610T134103Z
UID:423-1717794000-1717794000@elementsbar.co.uk
SUMMARY:Raving Fridays
DESCRIPTION:February 2025 Events				\n				\n					\n		\n					\n		\n				\n						\n					\n			\n						\n				\n																														\n				\n					\n		\n				\n			\n						\n				\n																														\n				\n					\n		\n					\n		\n				\n						\n					\n			\n						\n				\n					Address:				\n				\n				\n				\n							\n			\n						\n		\n						\n				\n				\n				\n									207 Lee High Road Lewisham\, London SE13 5PQ United Kingdom
URL:https://elementsbar.co.uk/event/raving-fridays/
CATEGORIES:Event
ATTACH;FMTTYPE=image/jpeg:https://elementsbar.co.uk/wp-content/uploads/2019/07/RAVING-FRIDAYS-1.jpeg
END:VEVENT
BEGIN:VEVENT
DTSTART;TZID=UTC:20240423T180000
DTEND;TZID=UTC:20240517T200000
DTSTAMP:20260420T064213
CREATED:20240423T120925Z
LAST-MODIFIED:20240610T134122Z
UID:3168-1713895200-1715976000@elementsbar.co.uk
SUMMARY:Every 3rd Friday of The Month
DESCRIPTION:February 2025 Events				\n				\n					\n		\n					\n		\n				\n						\n					\n			\n						\n				\n																														\n				\n					\n		\n				\n			\n						\n				\n																														\n				\n					\n		\n					\n		\n				\n						\n					\n			\n						\n				\n					Address:				\n				\n				\n				\n							\n			\n						\n		\n						\n				\n				\n				\n									207 Lee High Road Lewisham\, London SE13 5PQ United Kingdom
URL:https://elementsbar.co.uk/event/every-3rd-friday-of-the-month/
CATEGORIES:Event
ATTACH;FMTTYPE=image/jpeg:https://elementsbar.co.uk/wp-content/uploads/2024/04/EXPLORE-THE-ELEMENTS.jpeg
END:VEVENT
BEGIN:VEVENT
DTSTART;TZID=UTC:20240412T170000
DTEND;TZID=UTC:20240609T030000
DTSTAMP:20260420T064213
CREATED:20240328T174245Z
LAST-MODIFIED:20260312T172050Z
UID:2927-1712941200-1717902000@elementsbar.co.uk
SUMMARY:Big People Party Night
DESCRIPTION:February 2025 Events				\n				\n					\n		\n					\n		\n				\n						\n					\n			\n						\n				\n																														\n				\n					\n		\n				\n			\n						\n				\n																														\n				\n					\n		\n					\n		\n				\n						\n					\n			\n						\n				\n					Address:				\n				\n				\n				\n							\n			\n						\n		\n						\n				\n				\n				\n									207 Lee High Road Lewisham\, London SE13 5PQ United Kingdom
URL:https://elementsbar.co.uk/event/big-people-party-night/
CATEGORIES:Event
ATTACH;FMTTYPE=image/jpeg:https://elementsbar.co.uk/wp-content/uploads/2024/03/Big-Peoples-Party-Night.jpg
END:VEVENT
END:VCALENDAR